BEGIN:VCALENDAR
VERSION:2.0
PRODID:-//wp-events-plugin.com//7.2.1//EN
TZID:Europe/Berlin
X-WR-TIMEZONE:Europe/Berlin
BEGIN:VEVENT
UID:137@dav-leitzachtal.de
DTSTART;TZID=Europe/Berlin:20221216T180000
DTEND;TZID=Europe/Berlin:20221216T213000
DTSTAMP:20221127T071423Z
URL:https://www.dav-leitzachtal.de/wp-touren/events/wintergrillen-mit-glue
 hwein-und-kinderpunsch/
SUMMARY:Wintergrillen mit Glühwein und Kinderpunsch
DESCRIPTION:Traditionelles Wintergrillen mit Kinderpunsch und Glühwein vor
 m Kletterstadl für alle Mitglieder\, alle die gerne Klettern\, Kletterfam
 ilien und alle die es werden wollen...\n\nAb 18 Uhr am Kletterstadl bei je
 dem Wetter!\n\nFür heiße Getränke wird gesorgt\, Dinge zum Grillen bitt
 e selbst mitbringen\n\n&nbsp\;\n\n
CATEGORIES:Jugendgruppe
END:VEVENT
BEGIN:VTIMEZONE
TZID:Europe/Berlin
X-LIC-LOCATION:Europe/Berlin
BEGIN:STANDARD
DTSTART:20221030T020000
TZOFFSETFROM:+0200
TZOFFSETTO:+0100
TZNAME:CET
END:STANDARD
END:VTIMEZONE
END:VCALENDAR