BEGIN:VCALENDAR
VERSION:2.0
PRODID:-//wp-events-plugin.com//7.2.1//EN
TZID:Europe/Berlin
X-WR-TIMEZONE:Europe/Berlin
BEGIN:VEVENT
UID:57@dav-leitzachtal.de
DTSTART;TZID=Europe/Berlin;VALUE=DATE:20211103
DTEND;TZID=Europe/Berlin;VALUE=DATE:20211104
DTSTAMP:20211101T195525Z
URL:https://www.dav-leitzachtal.de/wp-touren/events/wendelstein-vom-sudelf
 eld/
SUMMARY:Wendelstein vom Sudelfeld
DESCRIPTION:„Die Oberlandler Senioren unternehmen am Mittwoch\, den 03. N
 ovember eine Wanderung auf den Wendelstein. Ausgangspunkt wird der Parkpla
 tz am Sudelfeld sein\, von dort geht es über die Wendelsteinalmen hinauf 
 zum Gipfel. Abhängig von den Witterungsbedingungen kann noch der Gipfelru
 ndweg begangen werden oder ein Abstecher zu Tagweidkopf und Lacherspitz. T
 reffpunkt ist um 9 Uhr am Bahnhof Neuhaus\, Anmeldungen an Otfried Blümel
  unter 08026/7505. Es gelten die aktuellen Coronabestimmungen.“
CATEGORIES:Oberlandler-Senioren
END:VEVENT
BEGIN:VTIMEZONE
TZID:Europe/Berlin
X-LIC-LOCATION:Europe/Berlin
BEGIN:STANDARD
DTSTART:20211031T020000
TZOFFSETFROM:+0200
TZOFFSETTO:+0100
TZNAME:CET
END:STANDARD
END:VTIMEZONE
END:VCALENDAR