BEGIN:VCALENDAR
VERSION:2.0
PRODID:-//wp-events-plugin.com//7.2.1//EN
TZID:Europe/Berlin
X-WR-TIMEZONE:Europe/Berlin
BEGIN:VEVENT
UID:134@dav-leitzachtal.de
DTSTART;TZID=Europe/Berlin:20221109T193000
DTEND;TZID=Europe/Berlin:20221109T220000
DTSTAMP:20221106T111429Z
URL:https://www.dav-leitzachtal.de/wp-touren/events/vortrag-von-reinhard-g
 roetzner-ein-island-eine-radltour-durch-das-westliche-hochland/
SUMMARY:Island - eine Radltour durch das westliche Hochland
DESCRIPTION:Die DAV Sektion Leitzachtal lädt am Mittwoch 9.11.2022 zu eine
 m Vortrag von Reinhard Grötzner ein:\n\nIsland - eine Radltour durch das 
 westliche Hochland.\n\nBeginn 20.00 im Gasthof Kirchstiegl\, Eintritt frei
 \, Spenden willkommen."
CATEGORIES:Vortrag
END:VEVENT
BEGIN:VTIMEZONE
TZID:Europe/Berlin
X-LIC-LOCATION:Europe/Berlin
BEGIN:STANDARD
DTSTART:20221030T020000
TZOFFSETFROM:+0200
TZOFFSETTO:+0100
TZNAME:CET
END:STANDARD
END:VTIMEZONE
END:VCALENDAR