BEGIN:VCALENDAR
VERSION:2.0
PRODID:-//wp-events-plugin.com//7.2.1//EN
TZID:Europe/Berlin
X-WR-TIMEZONE:Europe/Berlin
BEGIN:VEVENT
UID:78@dav-leitzachtal.de
DTSTART;TZID=Europe/Berlin:20220414T193000
DTEND;TZID=Europe/Berlin:20220414T213000
DTSTAMP:20220306T192544Z
URL:https://www.dav-leitzachtal.de/wp-touren/events/vortrag-mit-dem-mtb-du
 rch-die-julischen-alpen/
SUMMARY:Vortrag: Mit dem MTB durch die Julischen Alpen"
DESCRIPTION:"Die DAV Sektion Leitzachtal verschiebt den ursprünglich für 
 16. März geplanten Vortrag von Toni Putz "Mit dem MTB durch die Julischen
  Alpen"  auf Donnerstag 14. April im Gasthof Kirchstiegl. Beginn 20.00"
CATEGORIES:Vortrag
END:VEVENT
BEGIN:VTIMEZONE
TZID:Europe/Berlin
X-LIC-LOCATION:Europe/Berlin
BEGIN:DAYLIGHT
DTSTART:20220327T030000
TZOFFSETFROM:+0100
TZOFFSETTO:+0200
TZNAME:CEST
END:DAYLIGHT
END:VTIMEZONE
END:VCALENDAR