BEGIN:VCALENDAR
VERSION:2.0
PRODID:-//wp-events-plugin.com//7.2.1//EN
TZID:Europe/Berlin
X-WR-TIMEZONE:Europe/Berlin
BEGIN:VEVENT
UID:174@dav-leitzachtal.de
DTSTART;TZID=Europe/Berlin:20230215T200000
DTEND;TZID=Europe/Berlin:20230215T214500
DTSTAMP:20230205T051055Z
URL:https://www.dav-leitzachtal.de/wp-touren/events/vortrag-kailash-von-ha
 rald-antes/
SUMMARY:Vortrag "Kailash" von Harald Antes
DESCRIPTION:"Die DAV Sektion Leitzachtal lädt am Mittwoch 15. Februar um 2
 0.00 zu einem Dia_Vortrag "Kailash" von Harald Antes ein. Der Vortrag find
 et im Gasthof Kirchstiegl statt. Eintritt ist frei\, Spenden sind willkomm
 en"
CATEGORIES:Vortrag
END:VEVENT
BEGIN:VTIMEZONE
TZID:Europe/Berlin
X-LIC-LOCATION:Europe/Berlin
BEGIN:STANDARD
DTSTART:20221030T020000
TZOFFSETFROM:+0200
TZOFFSETTO:+0100
TZNAME:CET
END:STANDARD
END:VTIMEZONE
END:VCALENDAR