BEGIN:VCALENDAR
VERSION:2.0
PRODID:-//wp-events-plugin.com//7.2.1//EN
TZID:Europe/Berlin
X-WR-TIMEZONE:Europe/Berlin
BEGIN:VEVENT
UID:121@dav-leitzachtal.de
DTSTART;TZID=Europe/Berlin;VALUE=DATE:20220920
DTEND;TZID=Europe/Berlin;VALUE=DATE:20220921
DTSTAMP:20220828T085245Z
URL:https://www.dav-leitzachtal.de/wp-touren/events/vom-schliersee-zum-teg
 ernsee/
SUMMARY:Vom Schliersee zum Tegernsee
DESCRIPTION:Schöne Herbstwanderung über Hennerer zur Gindlalm 1335 m und 
 weiter zur Neureuth. Zurück über Gasse nach Gmund zum Bahnhof.\n\nGehzei
 t ca. 4 Stunden und 650 HM. Treffpunkt 8 Uhr Bahnhof Schliersee. Anmeldung
  bei Birgit Wörndl unter 08025/286837.\n\n&nbsp\;
CATEGORIES:Wandern
END:VEVENT
BEGIN:VTIMEZONE
TZID:Europe/Berlin
X-LIC-LOCATION:Europe/Berlin
BEGIN:DAYLIGHT
DTSTART:20220327T030000
TZOFFSETFROM:+0100
TZOFFSETTO:+0200
TZNAME:CEST
END:DAYLIGHT
END:VTIMEZONE
END:VCALENDAR