BEGIN:VCALENDAR
VERSION:2.0
PRODID:-//wp-events-plugin.com//7.2.1//EN
TZID:Europe/Berlin
X-WR-TIMEZONE:Europe/Berlin
BEGIN:VEVENT
UID:105@dav-leitzachtal.de
DTSTART;TZID=Europe/Berlin;VALUE=DATE:20220525
DTEND;TZID=Europe/Berlin;VALUE=DATE:20220530
DTSTAMP:20220514T202022Z
URL:https://www.dav-leitzachtal.de/wp-touren/events/verlaengertes-kletterw
 ochenende-im-sueden-jugend/
SUMMARY:Verlängertes Kletterwochenende in Arco
DESCRIPTION:Mehrseillängentouren im 5. und 6. Schwierigkeitsgrad\, Sportkl
 ettern\, je nach Wetter Deep Water Soloing und Pizza/Eis essen\, Kletterau
 srüstung\nu. Helm erforderlich\, Übernachtung am Camping Zoo\nTP: 16.00 
 Uhr\, Kletterstadl Aurach\, Anmeldung bis 18.5. per Mail: jugend@dav-leitz
 achtal.de
CATEGORIES:Jugendgruppe,Klettern
END:VEVENT
BEGIN:VTIMEZONE
TZID:Europe/Berlin
X-LIC-LOCATION:Europe/Berlin
BEGIN:DAYLIGHT
DTSTART:20220327T030000
TZOFFSETFROM:+0100
TZOFFSETTO:+0200
TZNAME:CEST
END:DAYLIGHT
END:VTIMEZONE
END:VCALENDAR