BEGIN:VCALENDAR
VERSION:2.0
PRODID:-//wp-events-plugin.com//7.2.1//EN
TZID:Europe/Berlin
X-WR-TIMEZONE:Europe/Berlin
BEGIN:VEVENT
UID:187@dav-leitzachtal.de
DTSTART;TZID=Europe/Berlin;VALUE=DATE:20230517
DTEND;TZID=Europe/Berlin;VALUE=DATE:20230518
DTSTAMP:20230514T184640Z
URL:https://www.dav-leitzachtal.de/wp-touren/events/tuerkenkoepfl-schweins
 berg/
SUMMARY:Türkenköpfl & Schweinsberg
DESCRIPTION:Die Oberlandler Seniorengruppe unternimmt am Mittwoch eine Berg
 wanderung zum Türkenköpfl und zum Schweinsberg.\n\nTreffpunkt ist um 9.2
 0 Uhr beim Gasthof Oberwirt in Birkenstein. Die Anreise erfolgt mit Bus. D
 ie Abfahrtszeiten an den jeweiligen Orten werden bei der Anmeldung bekannt
 gegeben.\n\nWeitere Infos und Anmeldungen bei Julia Riedl\, Tel.: 0162/484
 5129
CATEGORIES:Oberlandler-Senioren,Wandern
END:VEVENT
BEGIN:VTIMEZONE
TZID:Europe/Berlin
X-LIC-LOCATION:Europe/Berlin
BEGIN:DAYLIGHT
DTSTART:20230326T030000
TZOFFSETFROM:+0100
TZOFFSETTO:+0200
TZNAME:CEST
END:DAYLIGHT
END:VTIMEZONE
END:VCALENDAR