BEGIN:VCALENDAR
VERSION:2.0
PRODID:-//wp-events-plugin.com//7.2.1//EN
TZID:Europe/Berlin
X-WR-TIMEZONE:Europe/Berlin
BEGIN:VEVENT
UID:122@dav-leitzachtal.de
DTSTART;TZID=Europe/Berlin;VALUE=DATE:20220921
DTEND;TZID=Europe/Berlin;VALUE=DATE:20220922
DTSTAMP:20220918T171024Z
URL:https://www.dav-leitzachtal.de/wp-touren/events/tuerkenkoepfl-im-wende
 lsteingebiet/
SUMMARY:Türkenköpfl im Wendelsteingebiet
DESCRIPTION:"Wanderung der Oberlandler Senioren am 21.9. auf das Türkenkö
 pfl.\n\nDie Oberlandler Senioren wandern am Mittwoch 21.9.  auf das Türk
 enköpfl am Wendelstein.  Treffpunkt ist der Bahnhof Osterhofen um 9.30. 
 Parkmöglichkeit an der Wendelsteinbahn (gebührenpflichtig). Tourenleitun
 g: Frieder Scholz tel. 08028-783"
CATEGORIES:Oberlandler-Senioren
END:VEVENT
BEGIN:VTIMEZONE
TZID:Europe/Berlin
X-LIC-LOCATION:Europe/Berlin
BEGIN:DAYLIGHT
DTSTART:20220327T030000
TZOFFSETFROM:+0100
TZOFFSETTO:+0200
TZNAME:CEST
END:DAYLIGHT
END:VTIMEZONE
END:VCALENDAR