BEGIN:VCALENDAR
VERSION:2.0
PRODID:-//wp-events-plugin.com//7.2.1//EN
TZID:Europe/Berlin
X-WR-TIMEZONE:Europe/Berlin
BEGIN:VEVENT
UID:112@dav-leitzachtal.de
DTSTART;TZID=Europe/Berlin:20220625T140000
DTEND;TZID=Europe/Berlin:20220625T180000
DTSTAMP:20220614T091118Z
URL:https://www.dav-leitzachtal.de/wp-touren/events/tregler-alm-trails-650
 -hm-16-km-s1-trails/
SUMMARY:Tregler Alm Trails (650 hm\, 16 km\, S1 Trails)
DESCRIPTION:Wir treffen uns um 14:00h in Elbach und starten dort unsere Tra
 iltour zur Tregler Alm über die Sternplatte. Zum Schluss gönnen wir uns 
 noch ein Kaltgetränk im Biergarten beim Schmiedwirt.\n\nAchtung: Tour fin
 det nur bei trockenen Trails statt!\n\nTourdaten:\n- ca. 650 hm / 16 km\n-
  S1 Trails\, http://www.singletrail-skala.de\n- Einkehr ist erst am Ende d
 er Tour geplant.\n\nHelm\, Brille und Handschuhe sind Pflicht! Protektoren
  werden empfohlen.\n\nMax. 6 Teilnehmer.\n\nAnmeldung bei Alexander Strebe
 l
CATEGORIES:Mountainbike
END:VEVENT
BEGIN:VTIMEZONE
TZID:Europe/Berlin
X-LIC-LOCATION:Europe/Berlin
BEGIN:DAYLIGHT
DTSTART:20220327T030000
TZOFFSETFROM:+0100
TZOFFSETTO:+0200
TZNAME:CEST
END:DAYLIGHT
END:VTIMEZONE
END:VCALENDAR