BEGIN:VCALENDAR
VERSION:2.0
PRODID:-//wp-events-plugin.com//7.2.1//EN
TZID:Europe/Berlin
X-WR-TIMEZONE:Europe/Berlin
BEGIN:VEVENT
UID:157@dav-leitzachtal.de
DTSTART;TZID=Europe/Berlin;VALUE=DATE:20230608
DTEND;TZID=Europe/Berlin;VALUE=DATE:20230612
DTSTAMP:20221226T135726Z
URL:https://www.dav-leitzachtal.de/wp-touren/events/trans-chiemgau-vom-chi
 emsee-an-den-koenigssee/
SUMMARY:Trans-Chiemgau - Vom Chiemsee an den Königssee
DESCRIPTION:Auf anspruchsvollen Naturtrails durch die Highlights des Chiemg
 aus und der Berchtesgadener Alpen (S2/S3 www.singletrail-skala.de)\n\n\n\n
 Vom Chiemsee aus durchqueren wir auf vier Etappen das Chiemgau bis hin zu 
 de Berchtesgadener Alpen und dem einzigartigen Königssee. Bergauf auch sc
 hiebend oder tragend\, bergab konzentriert und voller Adrenalin auf techni
 schen Singeltrails\, immer begleitet von traumhaften Ausblicken auf den Al
 penhauptkamm. Eine ideale Vorbereitung für die Transalp. Wir übernachte
 n in Hotels oder auch auf Hütten. Es gibt keinen Gepäcktransport. Alles 
 was wir brauchen haben wir im Rucksack.\n\n\n\nTägl. bis zu 1500 hm kurbe
 ln / schieben / tragen. Kein Gepäcktransport. Übern. im Hotel. Enduro Fu
 lly mit mind. 150 mm und Helm / Protektoren erforderlich. TN-Geb. 24.- Eur
 o. TP und Fahrgemeinschaften werden nach Anmeldung (bei Alexander Strebel)
  vereinbart.
CATEGORIES:Mountainbike
END:VEVENT
BEGIN:VTIMEZONE
TZID:Europe/Berlin
X-LIC-LOCATION:Europe/Berlin
BEGIN:DAYLIGHT
DTSTART:20230326T030000
TZOFFSETFROM:+0100
TZOFFSETTO:+0200
TZNAME:CEST
END:DAYLIGHT
END:VTIMEZONE
END:VCALENDAR