BEGIN:VCALENDAR
VERSION:2.0
PRODID:-//wp-events-plugin.com//7.2.1//EN
TZID:Europe/Berlin
X-WR-TIMEZONE:Europe/Berlin
BEGIN:VEVENT
UID:84@dav-leitzachtal.de
DTSTART;TZID=Europe/Berlin;VALUE=DATE:20220531
DTEND;TZID=Europe/Berlin;VALUE=DATE:20220601
DTSTAMP:20220419T233830Z
URL:https://www.dav-leitzachtal.de/wp-touren/events/trainsjoch-1708-m-baye
 r-voralpen/
SUMMARY:Trainsjoch 1708 m\, Bayer. Voralpen
DESCRIPTION:Abwechslungsreiche\, mittelschwere Bergtour\, Aufstieg über As
 cherjochalm\nca. 3\,5 Std./850 Hm\, Abstieg über Mariandlalm. m. gemütli
 cher Einkehr\nTP: 7.00 Uhr\, Kletterstadl Aurach\, Anmeldung bei Birgit W
 örndl
CATEGORIES:Bergtour
END:VEVENT
BEGIN:VTIMEZONE
TZID:Europe/Berlin
X-LIC-LOCATION:Europe/Berlin
BEGIN:DAYLIGHT
DTSTART:20220327T030000
TZOFFSETFROM:+0100
TZOFFSETTO:+0200
TZNAME:CEST
END:DAYLIGHT
END:VTIMEZONE
END:VCALENDAR