BEGIN:VCALENDAR
VERSION:2.0
PRODID:-//wp-events-plugin.com//7.2.1//EN
TZID:Europe/Berlin
X-WR-TIMEZONE:Europe/Berlin
BEGIN:VEVENT
UID:113@dav-leitzachtal.de
DTSTART;TZID=Europe/Berlin:20220723T130000
DTEND;TZID=Europe/Berlin:20220723T180000
DTSTAMP:20220619T165103Z
URL:https://www.dav-leitzachtal.de/wp-touren/events/trailrunde-fischbachau
 -850-hm-23-km-s1-s2-trails/
SUMMARY:Trailrunde Fischbachau (850 hm\, 23 km\, S1/S2 Trails)
DESCRIPTION:Wir treffen uns um 13:00h am Bahnhof Fischbachau und starten do
 rt unsere Trailtour mit insgesamt drei Anstiegen und feinen S1/S2 Trails m
 it einigen Stellen an denen wir Spitzkehren\, Stufen und Wurzelfelder übe
 n können. Zum Schluss gönnen wir uns noch ein Kaltgetränk auf der Terra
 sse beim Hammerwirt.\n\nAchtung: Tour findet nur bei trockenen Trails stat
 t!\n\nTourdaten:\n- ca. 850 hm / 23 km\n- S1/S2 Trails\, http://www.single
 trail-skala.de\n- Einkehr ist erst am Ende der Tour geplant.\n\nHelm\, Bri
 lle und Handschuhe sind Pflicht! Protektoren werden empfohlen.\n\nMax. 6 T
 eilnehmer.\n\nAnmeldung bei Alexander Strebel
CATEGORIES:Mountainbike
END:VEVENT
BEGIN:VTIMEZONE
TZID:Europe/Berlin
X-LIC-LOCATION:Europe/Berlin
BEGIN:DAYLIGHT
DTSTART:20220327T030000
TZOFFSETFROM:+0100
TZOFFSETTO:+0200
TZNAME:CEST
END:DAYLIGHT
END:VTIMEZONE
END:VCALENDAR