BEGIN:VCALENDAR
VERSION:2.0
PRODID:-//wp-events-plugin.com//7.2.1//EN
TZID:Europe/Berlin
X-WR-TIMEZONE:Europe/Berlin
BEGIN:VEVENT
UID:111@dav-leitzachtal.de
DTSTART;TZID=Europe/Berlin:20220709T090000
DTEND;TZID=Europe/Berlin:20220709T170000
DTSTAMP:20220619T133819Z
URL:https://www.dav-leitzachtal.de/wp-touren/events/trailrunde-am-tegernse
 e-1100-hm-45-km-s1-s2-trails/
SUMMARY:Trailrunde am Tegernsee (1100 hm\, 45 km\, S1/S2 Trails)
DESCRIPTION:Wir treffen uns um 09:00h am Bahnhof in Gmund und umrunden von 
 dort aus den Tegernsee. Hierbei haben wir zwei große Anstiege. Der erste 
 mit 500 hm hat ein paar steile Rampen\, ist aber dennoch gut zu treten. Be
 rgab geht’s auf einem feinen S1/S2 Trail\, der uns einige Stellen bietet
 \, Spitzkehren\, Stufen und Wurzelfelder zu üben. Danach gibt’s einen k
 leinen Zwischenanstieg und einen weiteren kurzen S1/S2 Trail. Danach start
 en wir zum zweiten großen Anstieg mit ca. 500 hm\, der uns wiederum zu ei
 nem größtenteils flowigen S1/S2 Trail bringt. Danach rollen wir am See z
 urück nach Gmund und kehren optional noch im Seeglas ein.\n\nAchtung: Tou
 r findet nur bei trockenen Trails statt!\n\nTourdaten:\n- ca. 1100 hm / 45
  km\n- S1/S2 Trails\, http://www.singletrail-skala.de\n- Einkehr ist erst 
 am Ende der Tour geplant.\n\nHelm\, Brille und Handschuhe sind Pflicht! Pr
 otektoren werden empfohlen.\n\nMax. 6 Teilnehmer.\n\nAnmeldung bei Alexand
 er Strebel
CATEGORIES:Mountainbike
END:VEVENT
BEGIN:VTIMEZONE
TZID:Europe/Berlin
X-LIC-LOCATION:Europe/Berlin
BEGIN:DAYLIGHT
DTSTART:20220327T030000
TZOFFSETFROM:+0100
TZOFFSETTO:+0200
TZNAME:CEST
END:DAYLIGHT
END:VTIMEZONE
END:VCALENDAR