BEGIN:VCALENDAR
VERSION:2.0
PRODID:-//wp-events-plugin.com//7.2.1//EN
TZID:Europe/Berlin
X-WR-TIMEZONE:Europe/Berlin
BEGIN:VEVENT
UID:164@dav-leitzachtal.de
DTSTART;TZID=Europe/Berlin:20230902T000000
DTEND;TZID=Europe/Berlin:20230910T000000
DTSTAMP:20230104T100152Z
URL:https://www.dav-leitzachtal.de/wp-touren/events/trail-transalp-2023/
SUMMARY:Trail Transalp 2023
DESCRIPTION:Mit dem Bike über die Alpen. Hoch: kurbeln\, liften\, schieben
 \, tragen\, fluchen. Runter: Flowige und technische Singletrails. Unterkun
 ft auf Hütten und in Hotels. Gutes Essen\, Wellness\, Wäscheservice. Spa
 ß haben.\n\n\n\nROUTE: Tag 1 - Kramsach - Mayrhofen\, Tag 2 - Mayrhofen 
 - Bruneck\, Tag 3 - Bruneck - Lüsen\, Tag 4 - Lüsen - La Ila\, Tag 5 - L
 a Ila - Predazzo\, Tag 6 - Predazzo - Sant Orsola Terme\, Tag 7 - Sant Ors
 ola Terme - Trento\, Tag 8 - Trento - Riva\n\n\n\nANFORDERUNGEN: Tempo: m
 oderat. Bike: Enduro mit mind. 150 mm Federweg. Tagespensum: 1200-1400 hm 
 Muskelkraft + Lifte. Trails: S2 / S3\nGesamt: ca. 10.000 hm Muskelkraft\, 
 davon ca. 1600 hm schieben / tragen plus ca. 10.000 hm Lifte. Macht ca. 20
 .000 Tiefenmeter :-) und ca 400 km Strecke.\n\n\n\nKein Gepäcktransport. 
 Übern. im Hotel. Hin- und Rückfahrt mit dem Zug. Helm / Protektoren erfo
 rderlich. TN-Geb. 64.- Euro. TP wird nach Anmeldung (bei Alexander Strebel
 ) vereinbart.
CATEGORIES:Mountainbike
END:VEVENT
BEGIN:VTIMEZONE
TZID:Europe/Berlin
X-LIC-LOCATION:Europe/Berlin
BEGIN:DAYLIGHT
DTSTART:20230326T030000
TZOFFSETFROM:+0100
TZOFFSETTO:+0200
TZNAME:CEST
END:DAYLIGHT
END:VTIMEZONE
END:VCALENDAR