BEGIN:VCALENDAR
VERSION:2.0
PRODID:-//wp-events-plugin.com//7.2.1//EN
TZID:Europe/Berlin
X-WR-TIMEZONE:Europe/Berlin
BEGIN:VEVENT
UID:61@dav-leitzachtal.de
DTSTART;TZID=Europe/Berlin;VALUE=DATE:20211124
DTEND;TZID=Europe/Berlin;VALUE=DATE:20211125
DTSTAMP:20211107T215639Z
URL:https://www.dav-leitzachtal.de/wp-touren/events/tour-oberlandler-senio
 ren-24-11-21/
SUMMARY:Tour Oberlandler Senioren
DESCRIPTION:Ziel wird noch bekannt gegeben. Tourenleitung: Frieder Scholz\,
  Tel. 08028/783\n\nTreffpunkt in der Regel:  mittwochs um 09:00 Uhr am Ba
 hnhof Neuhaus. Bitte trotzdem immer spätestens am Vortag beim Tourenleite
 r melden. Hinweis! Wegen schlechtem Wetter gibt es keine Absagen!\n Info
  Oberlandler Senioren\nWer kann mitmachen\nSenioren\, die sich mittwochs v
 on ihrem „Unruhestand“ loseisen können. Jeder der DAV Mitglied ist\, 
 sich „senioritisch“ genug fühlt und dem Tourenleiter nicht ständig d
 avonläuft.\n\n&nbsp\;\nWas sind die Anforderungen?\nSo wie bei jeder klei
 nen Wanderung! Außerdem sind die Anforderungen der jeweiligen Tourenart\,
  Sommer- oder Wintertour angepasst. Grundsätzlich sind Trittsicherheit\, 
 Schwindelfreiheit und ausreichend guter Umgang mit den jeweiligen Sportger
 äten (und wenn es nur Bergschuhe sind) gefordert
CATEGORIES:Oberlandler-Senioren
END:VEVENT
BEGIN:VTIMEZONE
TZID:Europe/Berlin
X-LIC-LOCATION:Europe/Berlin
BEGIN:STANDARD
DTSTART:20211031T020000
TZOFFSETFROM:+0200
TZOFFSETTO:+0100
TZNAME:CET
END:STANDARD
END:VTIMEZONE
END:VCALENDAR