BEGIN:VCALENDAR
VERSION:2.0
PRODID:-//wp-events-plugin.com//7.2.1//EN
TZID:Europe/Berlin
X-WR-TIMEZONE:Europe/Berlin
BEGIN:VEVENT
UID:60@dav-leitzachtal.de
DTSTART;TZID=Europe/Berlin;VALUE=DATE:20211208
DTEND;TZID=Europe/Berlin;VALUE=DATE:20211209
DTSTAMP:20211107T215442Z
URL:https://www.dav-leitzachtal.de/wp-touren/events/tour-oberlandler-senio
 ren-08-12-21/
SUMMARY:Tour Oberlandler Senioren
DESCRIPTION:Ziel wird noch bekannt gegeben. Tourenleitung: Julia Riedl\, Te
 l. 08028/1229\n\nTreffpunkt in der Regel:  mittwochs um 09:00 Uhr am Bahn
 hof Neuhaus. Bitte trotzdem immer spätestens am Vortag beim Tourenleiter 
 melden. Hinweis! Wegen schlechtem Wetter gibt es keine Absagen!\n Info O
 berlandler Senioren\nWer kann mitmachen\nSenioren\, die sich mittwochs von
  ihrem „Unruhestand“ loseisen können. Jeder der DAV Mitglied ist\, si
 ch „senioritisch“ genug fühlt und dem Tourenleiter nicht ständig dav
 onläuft.\n\n&nbsp\;\nWas sind die Anforderungen?\nSo wie bei jeder kleine
 n Wanderung! Außerdem sind die Anforderungen der jeweiligen Tourenart\, S
 ommer- oder Wintertour angepasst. Grundsätzlich sind Trittsicherheit\, Sc
 hwindelfreiheit und ausreichend guter Umgang mit den jeweiligen Sportgerä
 ten (und wenn es nur Bergschuhe sind) gefordert
CATEGORIES:Oberlandler-Senioren
END:VEVENT
BEGIN:VTIMEZONE
TZID:Europe/Berlin
X-LIC-LOCATION:Europe/Berlin
BEGIN:STANDARD
DTSTART:20211031T020000
TZOFFSETFROM:+0200
TZOFFSETTO:+0100
TZNAME:CET
END:STANDARD
END:VTIMEZONE
END:VCALENDAR