BEGIN:VCALENDAR
VERSION:2.0
PRODID:-//wp-events-plugin.com//7.2.1//EN
TZID:Europe/Berlin
X-WR-TIMEZONE:Europe/Berlin
BEGIN:VEVENT
UID:194@dav-leitzachtal.de
DTSTART;TZID=Europe/Berlin;VALUE=DATE:20230924
DTEND;TZID=Europe/Berlin;VALUE=DATE:20230925
DTSTAMP:20230919T235814Z
URL:https://www.dav-leitzachtal.de/wp-touren/events/test/
SUMMARY:Dürrnbachhorn 1776 m\, Chiemgauer Alpen
DESCRIPTION:Mittelschwere Berg- u. Gratwanderung v. d. Winklmoosalm üb. D
 ürrnbacheck z.\nGipfel\, grandiose Aussicht\, weiter z. Wildalphorn\, Tri
 ttsicherheit u. Schwindelfreiheit\nerford. Aufst. 3\,5 Std/830 Hm\, Abst. 
 üb. Finsterbachalm u. Traunsteiner Skihütte\nTP: Nach Vereinbarung\, Anm
 eldung bis 21.9. bei Franz Schnitzlbaumer
CATEGORIES:Bergtour
END:VEVENT
BEGIN:VTIMEZONE
TZID:Europe/Berlin
X-LIC-LOCATION:Europe/Berlin
BEGIN:DAYLIGHT
DTSTART:20230326T030000
TZOFFSETFROM:+0100
TZOFFSETTO:+0200
TZNAME:CEST
END:DAYLIGHT
END:VTIMEZONE
END:VCALENDAR