BEGIN:VCALENDAR
VERSION:2.0
PRODID:-//wp-events-plugin.com//7.2.1//EN
TZID:Europe/Berlin
X-WR-TIMEZONE:Europe/Berlin
BEGIN:VEVENT
UID:160@dav-leitzachtal.de
DTSTART;TZID=Europe/Berlin:20230326T090000
DTEND;TZID=Europe/Berlin:20230326T160000
DTSTAMP:20230324T153938Z
URL:https://www.dav-leitzachtal.de/wp-touren/events/suedseitentrails-am-sc
 hliersee-1000-hm-33-km-s2/
SUMMARY:Abgesagt wegen Mistwetter - Südseitentrails am Schliersee (1000 hm
 \, 33 km\, S2)
DESCRIPTION:Ende März klettert das Thermometer teilweise bis auf 20 Grad :
 -) Das nutzen wir für eine Tour auf den Südseitentrails am Schliersee. W
 ir treffen uns um 09:00h am Bahnhof Hausham und starten dort unsere Tour m
 it insgesamt drei Anstiegen und feinen S2 Trails (wenige S3 Stellen) entla
 ng des Schliersees. Zum Schluss gönnen wir uns noch ein Sundowner im Stra
 ndbad in Schliersee. Achtung: Tour findet nur bei trockenen Trails statt!
 \n\n\n\nTourdaten: Ca. 1000 hm / 33 km. Vorwiegend S2 Trails\, wenige S3 S
 tellen. Einkehr ist erst am Ende der Tour geplant. Die Tour ist nicht gee
 ignet für: Einsteiger\, Jugend unter 16 Jahren. Helm\, Handschuhe\, Brill
 e &amp\; Protektoren erforderlich!
CATEGORIES:Mountainbike
END:VEVENT
BEGIN:VTIMEZONE
TZID:Europe/Berlin
X-LIC-LOCATION:Europe/Berlin
BEGIN:DAYLIGHT
DTSTART:20230326T030000
TZOFFSETFROM:+0100
TZOFFSETTO:+0200
TZNAME:CEST
END:DAYLIGHT
END:VTIMEZONE
END:VCALENDAR