BEGIN:VCALENDAR
VERSION:2.0
PRODID:-//wp-events-plugin.com//7.2.1//EN
TZID:Europe/Berlin
X-WR-TIMEZONE:Europe/Berlin
BEGIN:VEVENT
UID:65@dav-leitzachtal.de
DTSTART;TZID=Europe/Berlin;VALUE=DATE:20220212
DTEND;TZID=Europe/Berlin;VALUE=DATE:20220213
DTSTAMP:20211219T142235Z
URL:https://www.dav-leitzachtal.de/wp-touren/events/stanser-joch-2102-m-ka
 rwendel/
SUMMARY:Skitour Stanser Joch 2102 m\, Karwendel
DESCRIPTION:Mittelschwere Skitour überm Achensee mit toller Aussicht über
 s Inntal und\nin die Zillertaler Alpen\, Aufstieg von Pertisau ca. 3\,5 St
 d./1100 Hm\nTP: 7.00 Uhr\, Bhf. Hausham\, Anmeldung bei Georg Scholz
CATEGORIES:Skitour
END:VEVENT
BEGIN:VTIMEZONE
TZID:Europe/Berlin
X-LIC-LOCATION:Europe/Berlin
BEGIN:STANDARD
DTSTART:20211031T020000
TZOFFSETFROM:+0200
TZOFFSETTO:+0100
TZNAME:CET
END:STANDARD
END:VTIMEZONE
END:VCALENDAR