BEGIN:VCALENDAR
VERSION:2.0
PRODID:-//wp-events-plugin.com//7.2.1//EN
TZID:Europe/Berlin
X-WR-TIMEZONE:Europe/Berlin
BEGIN:VEVENT
UID:66@dav-leitzachtal.de
DTSTART;TZID=Europe/Berlin;VALUE=DATE:20220312
DTEND;TZID=Europe/Berlin;VALUE=DATE:20220313
DTSTAMP:20211219T142014Z
URL:https://www.dav-leitzachtal.de/wp-touren/events/sonnwendjoch-1986-m-ba
 yer-voralpen/
SUMMARY:Skitour Sonnwendjoch 1986 m\, Bayer. Voralpen
DESCRIPTION:Einfache Skitour auf d. höchsten Gipfel der Bayer. Voralpen\,\
 nAufstieg je nach Schneelage von der Ackernalmstraße über Schnittlauchgr
 aben\nca. 2\,5 – 3 Std./950 – 1100 Hm\nTP: 8.00 Uhr\, Kletterstadl Aur
 ach\, Anmeldung bei Georg Scholz
CATEGORIES:Skitour
END:VEVENT
BEGIN:VTIMEZONE
TZID:Europe/Berlin
X-LIC-LOCATION:Europe/Berlin
BEGIN:STANDARD
DTSTART:20211031T020000
TZOFFSETFROM:+0200
TZOFFSETTO:+0100
TZNAME:CET
END:STANDARD
END:VTIMEZONE
END:VCALENDAR