BEGIN:VCALENDAR
VERSION:2.0
PRODID:-//wp-events-plugin.com//7.2.1//EN
TZID:Europe/Berlin
X-WR-TIMEZONE:Europe/Berlin
BEGIN:VEVENT
UID:27@dav-leitzachtal.de
DTSTART;TZID=Europe/Berlin:20210618T163000
DTEND;TZID=Europe/Berlin:20210618T223000
DTSTAMP:20210610T083318Z
URL:https://www.dav-leitzachtal.de/wp-touren/events/sonnwend-almtour-famil
 ien-gruppe/
SUMMARY:Sonnwend-Almtour (Familien Gruppe)
DESCRIPTION:Wir wandern zu einer Alm in der Region\, dort Grillen und vorge
 zogenes Sonnwendfeuer. Treffpunkt 16.30 beim Kletterstadl\, Teilnahme nur 
 mit Anmeldung\,  Info bei Rainer Preuschl  oder Helmut Walter \n\n&nbsp
 \;
CATEGORIES:Bergtour,Familiengruppe
END:VEVENT
BEGIN:VTIMEZONE
TZID:Europe/Berlin
X-LIC-LOCATION:Europe/Berlin
BEGIN:DAYLIGHT
DTSTART:20210328T030000
TZOFFSETFROM:+0100
TZOFFSETTO:+0200
TZNAME:CEST
END:DAYLIGHT
END:VTIMEZONE
END:VCALENDAR