BEGIN:VCALENDAR
VERSION:2.0
PRODID:-//wp-events-plugin.com//7.2.1//EN
TZID:Europe/Berlin
X-WR-TIMEZONE:Europe/Berlin
BEGIN:VEVENT
UID:69@dav-leitzachtal.de
DTSTART;TZID=Europe/Berlin:20220403T000000
DTEND;TZID=Europe/Berlin:20220407T000000
DTSTAMP:20211219T143253Z
URL:https://www.dav-leitzachtal.de/wp-touren/events/skitouren-valser-tal-b
 uendner-alpen-schweiz/
SUMMARY:Skitouren Valser Tal\, Bündner Alpen/Schweiz
DESCRIPTION:Anspuchsvolle Skihochtouren im Gebiet der Läntahütte 2090 m\,
  Hüttenzustieg\nvom Zervreila-Stausee ca. 3 Std.\, mögliche Gipfelziele 
 Rheinwaldhorn 3402 m\,\nGrauhorn 3260 m\, Güferhorn 3383 m\, Furgeltihorn
 \, Gletscherausrüstung- und\nErfahrung erforderlich\, Aufst. 3 – 5 Std.
 /1300 Hm\, TN-Geb. 32.- Euro\nTP: Nach Vereinbarung\, Anmeldung bis 30.3. 
 bei Julia Riedl
CATEGORIES:Skitour
END:VEVENT
BEGIN:VTIMEZONE
TZID:Europe/Berlin
X-LIC-LOCATION:Europe/Berlin
BEGIN:DAYLIGHT
DTSTART:20220327T030000
TZOFFSETFROM:+0100
TZOFFSETTO:+0200
TZNAME:CEST
END:DAYLIGHT
END:VTIMEZONE
END:VCALENDAR