BEGIN:VCALENDAR
VERSION:2.0
PRODID:-//wp-events-plugin.com//7.2.1//EN
TZID:Europe/Berlin
X-WR-TIMEZONE:Europe/Berlin
BEGIN:VEVENT
UID:151@dav-leitzachtal.de
DTSTART;TZID=Europe/Berlin;VALUE=DATE:20230326
DTEND;TZID=Europe/Berlin;VALUE=DATE:20230331
DTSTAMP:20221221T172617Z
URL:https://www.dav-leitzachtal.de/wp-touren/events/skitouren-um-die-jenat
 schhuette-2653-m-schweiz/
SUMMARY:Skitouren um die Jenatschhütte 2653 m\, Schweiz
DESCRIPTION:Skitouren um die Jenatschhütte 2653 m\, Bündner Alpen/Schweiz
 \nAnspuchsvolle Skihochtouren im Gebiet der Hütte \, Aufst. ca. 4 Std.\, 
 mögliche\nGipfelziele Piz d‘Err 3378 m\, Fuorcla d‘Agnel 3204 m\, Piz
  Surgonda 3196 m\,\nGletscherausrüstung erford.\, Aufst. 3 - 5 Std./1300 
 Hm\, TN-Geb. 32.- EUR\nTP: Nach Vereinbarung\, Anmeldung bis 30.3. bei Jul
 ia Riedl
CATEGORIES:Skitour
END:VEVENT
BEGIN:VTIMEZONE
TZID:Europe/Berlin
X-LIC-LOCATION:Europe/Berlin
BEGIN:STANDARD
DTSTART:20221030T020000
TZOFFSETFROM:+0200
TZOFFSETTO:+0100
TZNAME:CET
END:STANDARD
BEGIN:DAYLIGHT
DTSTART:20230326T030000
TZOFFSETFROM:+0100
TZOFFSETTO:+0200
TZNAME:CEST
END:DAYLIGHT
END:VTIMEZONE
END:VCALENDAR