BEGIN:VCALENDAR
VERSION:2.0
PRODID:-//wp-events-plugin.com//7.2.1//EN
TZID:Europe/Berlin
X-WR-TIMEZONE:Europe/Berlin
BEGIN:VEVENT
UID:148@dav-leitzachtal.de
DTSTART;TZID=Europe/Berlin;VALUE=DATE:20230308
DTEND;TZID=Europe/Berlin;VALUE=DATE:20230313
DTSTAMP:20221221T172232Z
URL:https://www.dav-leitzachtal.de/wp-touren/events/skitouren-ultental-ort
 lergruppe/
SUMMARY:Skitouren\, Ultental\, Ortlergruppe
DESCRIPTION:Skitouren\, Ultental\, Ortlergruppe\nMittelschwere Skitouren \,
  mögliche Gipfel Hasenöhrl 3257 m\, Ilmenspitze 2656 m\,\nHt. Eggenspitz
 e 3442 m\, Übernacht. in Talquartier\, TN-Geb. 32.- EUR\nTP: 8.00 Uhr\, K
 letterstadl Aurach\, Anmeldung bis 20.2. bei Frieder Scholz
CATEGORIES:Skitour
END:VEVENT
BEGIN:VTIMEZONE
TZID:Europe/Berlin
X-LIC-LOCATION:Europe/Berlin
BEGIN:STANDARD
DTSTART:20221030T020000
TZOFFSETFROM:+0200
TZOFFSETTO:+0100
TZNAME:CET
END:STANDARD
END:VTIMEZONE
END:VCALENDAR