BEGIN:VCALENDAR
VERSION:2.0
PRODID:-//wp-events-plugin.com//7.2.1//EN
TZID:Europe/Berlin
X-WR-TIMEZONE:Europe/Berlin
BEGIN:VEVENT
UID:145@dav-leitzachtal.de
DTSTART;TZID=Europe/Berlin:20230212T000000
DTEND;TZID=Europe/Berlin:20230216T000000
DTSTAMP:20221221T170838Z
URL:https://www.dav-leitzachtal.de/wp-touren/events/skitouren-lesachtal-ka
 rnische-alpen/
SUMMARY:Skitouren\, Lesachtal\, Karnische Alpen
DESCRIPTION:Lesachtal\, Karnische Alpen\nMittelschwere Skitouren v. St. Lor
 enzen aus\, mögliche Gipfel Schönjöchl 2295 m\,\nHoher Bösring 2423 m\
 , Öfenspitze 2334 m\, Hollbrucker Spitze 2580 m und\nSchwalbenkofel 2195 
 m\, Aufstiege zwischen 3\,5 und 5 Std./1300 Hm\nAusrüstung C\, Übernacht
 ung in Talquartier\, TN-Gebühr 32.- EUR\nTP: Nach Vereinbarung\, Anmeldun
 g bis 1.2. bei Julia Riedl
CATEGORIES:Skitour
END:VEVENT
BEGIN:VTIMEZONE
TZID:Europe/Berlin
X-LIC-LOCATION:Europe/Berlin
BEGIN:STANDARD
DTSTART:20221030T020000
TZOFFSETFROM:+0200
TZOFFSETTO:+0100
TZNAME:CET
END:STANDARD
END:VTIMEZONE
END:VCALENDAR