BEGIN:VCALENDAR
VERSION:2.0
PRODID:-//wp-events-plugin.com//7.2.1//EN
TZID:Europe/Berlin
X-WR-TIMEZONE:Europe/Berlin
BEGIN:VEVENT
UID:142@dav-leitzachtal.de
DTSTART;TZID=Europe/Berlin;VALUE=DATE:20230114
DTEND;TZID=Europe/Berlin;VALUE=DATE:20230116
DTSTAMP:20221221T170355Z
URL:https://www.dav-leitzachtal.de/wp-touren/events/skitouren-in-den-kitzb
 uehler-alpen/
SUMMARY:Skitouren - Kitzbühler Alpen
DESCRIPTION:Mittelschwere Skitouren\, Gipfelziele je nach Schneelage und Ve
 rhältnissen\,\nAufstiege zwischen 2\,5 - 4 Std./800 - 1200 Hm\, TN-Geb 8.
 - EUR.\nTP: 7.00 Uhr\, Kletterstadl Aurach\, Anmeldung bei Julia Riedl
CATEGORIES:Skitour
END:VEVENT
BEGIN:VTIMEZONE
TZID:Europe/Berlin
X-LIC-LOCATION:Europe/Berlin
BEGIN:STANDARD
DTSTART:20221030T020000
TZOFFSETFROM:+0200
TZOFFSETTO:+0100
TZNAME:CET
END:STANDARD
END:VTIMEZONE
END:VCALENDAR