BEGIN:VCALENDAR
VERSION:2.0
PRODID:-//wp-events-plugin.com//7.2.1//EN
TZID:Europe/Berlin
X-WR-TIMEZONE:Europe/Berlin
BEGIN:VEVENT
UID:204@dav-leitzachtal.de
DTSTART;TZID=Europe/Berlin;VALUE=DATE:20240112
DTEND;TZID=Europe/Berlin;VALUE=DATE:20240115
DTSTAMP:20231112T150128Z
URL:https://www.dav-leitzachtal.de/wp-touren/events/skitouren-in-den-kitzb
 uehler-alpen-2/
SUMMARY:Skitouren in den Kitzbühler Alpen
DESCRIPTION:Mittelschwere Skitouren\, Gipfelziele nach Schneelage\, Überna
 chtg. Oberlandhütte\,\nAufstiege 2\,5 – 4 Std./800 – 1000 Hm\, Anfahr
 t mit ÖPNV\, TN-Geb. 16.- EUR\nTP: Nach Vereinbarung\, Anmeldung bei Frie
 der Scholz/Julia Riedl
CATEGORIES:Skitour
END:VEVENT
BEGIN:VTIMEZONE
TZID:Europe/Berlin
X-LIC-LOCATION:Europe/Berlin
BEGIN:STANDARD
DTSTART:20231029T020000
TZOFFSETFROM:+0200
TZOFFSETTO:+0100
TZNAME:CET
END:STANDARD
END:VTIMEZONE
END:VCALENDAR