BEGIN:VCALENDAR
VERSION:2.0
PRODID:-//wp-events-plugin.com//7.2.1//EN
TZID:Europe/Berlin
X-WR-TIMEZONE:Europe/Berlin
BEGIN:VEVENT
UID:26@dav-leitzachtal.de
DTSTART;TZID=Europe/Berlin;VALUE=DATE:20210210
DTEND;TZID=Europe/Berlin;VALUE=DATE:20210215
DTSTAMP:20201218T153439Z
URL:https://www.dav-leitzachtal.de/wp-touren/events/skitouren-im-lesachtal
 /
SUMMARY:Skitouren im Lesachtal
DESCRIPTION:Mittelschwere Skitouren im Lesachtal\, Karnische Alpen\n\nVon S
 t. Lorenzen aus\, mögliche Gipfelziele Schönjöchl\n2295\, Hoher Bösrin
 g 2423 m\, Öfenspitze 2334 m\, Hollbrucker Spitze 2580 m\nund Schwalbenko
 fel 2159 m\, Aufstiege zwischen 3\,5 – 5 Std./1300 Hm\,\n\nAusrüstung C
 \,\n\nÜbernachtung in Talquartier\n\nTN-Geb. 32.- EUR\,\nTreffpunkt nach 
 Vereinbarung\,\n\nAnmeldung bis 28.1. bei Julia Riedl
CATEGORIES:Skitour
LOCATION:Lesachtal\, Karnische Alpen\, Kärnten\, Österreich
X-APPLE-STRUCTURED-LOCATION;VALUE=URI;X-ADDRESS=Karnische Alpen\, Kärnten\
 , Österreich;X-APPLE-RADIUS=100;X-TITLE=Lesachtal:geo:0,0
END:VEVENT
BEGIN:VTIMEZONE
TZID:Europe/Berlin
X-LIC-LOCATION:Europe/Berlin
BEGIN:STANDARD
DTSTART:20201025T020000
TZOFFSETFROM:+0200
TZOFFSETTO:+0100
TZNAME:CET
END:STANDARD
END:VTIMEZONE
END:VCALENDAR