BEGIN:VCALENDAR
VERSION:2.0
PRODID:-//wp-events-plugin.com//7.2.1//EN
TZID:Europe/Berlin
X-WR-TIMEZONE:Europe/Berlin
BEGIN:VEVENT
UID:63@dav-leitzachtal.de
DTSTART;TZID=Europe/Berlin;VALUE=DATE:20220114
DTEND;TZID=Europe/Berlin;VALUE=DATE:20220117
DTSTAMP:20211219T115845Z
URL:https://www.dav-leitzachtal.de/wp-touren/events/skitouren-im-langen-gr
 und-kitzbuehler-alpen/
SUMMARY:Skitouren im Langen Grund\, Kitzbühler Alpen
DESCRIPTION:Mittelschwere Skitouren\, Übernachtung im Gasthaus Moderstock 
 1018 m\,\nGipfelziele je nach Schneelage und Verhältnissen\, Aufstiege zw
 ischen\n2\,5 – 4 Std./800 – 1200 Hm\, TN-Geb 16.- Euro.\nTP: 7.30 Uhr\
 , Kletterstadl Aurach\, Anmeldung bei Frieder Scholz
CATEGORIES:Skitour
END:VEVENT
BEGIN:VTIMEZONE
TZID:Europe/Berlin
X-LIC-LOCATION:Europe/Berlin
BEGIN:STANDARD
DTSTART:20211031T020000
TZOFFSETFROM:+0200
TZOFFSETTO:+0100
TZNAME:CET
END:STANDARD
END:VTIMEZONE
END:VCALENDAR