BEGIN:VCALENDAR
VERSION:2.0
PRODID:-//wp-events-plugin.com//7.2.1//EN
TZID:Europe/Berlin
X-WR-TIMEZONE:Europe/Berlin
BEGIN:VEVENT
UID:67@dav-leitzachtal.de
DTSTART;TZID=Europe/Berlin;VALUE=DATE:20220215
DTEND;TZID=Europe/Berlin;VALUE=DATE:20220220
DTSTAMP:20211219T142220Z
URL:https://www.dav-leitzachtal.de/wp-touren/events/skitouren-fanesgruppe-
 dolomiten/
SUMMARY:Skitouren Fanesgruppe\, Dolomiten
DESCRIPTION:Skitouren in der Fanesgruppe\, Dolomiten\nMittelschwere Skitour
 en rund um die Faneshütte 2060 m\, Aufstieg 2 Std.\,\nÜbernachtung. Mög
 l. Gipfelziele: Monte Castello\, Lavarella 3053 m\, Neuner\n2968 m\, Col B
 ecchei 2793 m\, Heiligkreuzkofel 2907 m\, Antonispitze 2655 m\nAufstiege 2
 \,5 – 4 Std./800 – 1200 Hm\, TN-Geb.32.- Euro\nTP: 7.00 Uhr\, Kletters
 tadl Aurach\, Anmeldung bis 1.2. bei Julia Riedl
CATEGORIES:Skitour
END:VEVENT
BEGIN:VTIMEZONE
TZID:Europe/Berlin
X-LIC-LOCATION:Europe/Berlin
BEGIN:STANDARD
DTSTART:20211031T020000
TZOFFSETFROM:+0200
TZOFFSETTO:+0100
TZNAME:CET
END:STANDARD
END:VTIMEZONE
END:VCALENDAR