BEGIN:VCALENDAR
VERSION:2.0
PRODID:-//wp-events-plugin.com//7.2.1//EN
TZID:Europe/Berlin
X-WR-TIMEZONE:Europe/Berlin
BEGIN:VEVENT
UID:150@dav-leitzachtal.de
DTSTART;TZID=Europe/Berlin;VALUE=DATE:20230318
DTEND;TZID=Europe/Berlin;VALUE=DATE:20230319
DTSTAMP:20221221T172514Z
URL:https://www.dav-leitzachtal.de/wp-touren/events/skitour-sonnwendjoch-1
 986-m-bayer-voralpen/
SUMMARY:Skitour\, Sonnwendjoch 1986 m\, Bayer. Voralpen
DESCRIPTION:Sonnwendjoch 1986 m\, Bayer. Voralpen\nMittelschw. Skitour auf 
 d. höchsten Gipfel d. Bay. Voralpen\nAufst. je nach Schneelage üb. Schni
 ttlauchgraben ca. 3 Std./1000 Hm\nTP: 8.00 Uhr\, Kletterstadl Aurach\, Anm
 eldung bei Georg Scholz
CATEGORIES:Skitour
END:VEVENT
BEGIN:VTIMEZONE
TZID:Europe/Berlin
X-LIC-LOCATION:Europe/Berlin
BEGIN:STANDARD
DTSTART:20221030T020000
TZOFFSETFROM:+0200
TZOFFSETTO:+0100
TZNAME:CET
END:STANDARD
END:VTIMEZONE
END:VCALENDAR