BEGIN:VCALENDAR
VERSION:2.0
PRODID:-//wp-events-plugin.com//7.2.1//EN
TZID:Europe/Berlin
X-WR-TIMEZONE:Europe/Berlin
BEGIN:VEVENT
UID:70@dav-leitzachtal.de
DTSTART;TZID=Europe/Berlin;VALUE=DATE:20220311
DTEND;TZID=Europe/Berlin;VALUE=DATE:20220312
DTSTAMP:20220308T072206Z
URL:https://www.dav-leitzachtal.de/wp-touren/events/skitour-mit-kindern/
SUMMARY:Skitour mit Kindern
DESCRIPTION:Wir wollen auch diese Jahr Skitouren für Familien mit Kinder a
 b 8 Jahren anbieten. Ankündigung jeweils je nach Schnee- und Wetterlage. 
 Wer Interesse hat gerne bei Helmut melden.
CATEGORIES:Familiengruppe,Skitour
END:VEVENT
BEGIN:VTIMEZONE
TZID:Europe/Berlin
X-LIC-LOCATION:Europe/Berlin
BEGIN:STANDARD
DTSTART:20211031T020000
TZOFFSETFROM:+0200
TZOFFSETTO:+0100
TZNAME:CET
END:STANDARD
END:VTIMEZONE
END:VCALENDAR