BEGIN:VCALENDAR
VERSION:2.0
PRODID:-//wp-events-plugin.com//7.2.1//EN
TZID:Europe/Berlin
X-WR-TIMEZONE:Europe/Berlin
BEGIN:VEVENT
UID:22@dav-leitzachtal.de
DTSTART;TZID=Europe/Berlin;VALUE=DATE:20210116
DTEND;TZID=Europe/Berlin;VALUE=DATE:20210117
DTSTAMP:20210108T014717Z
URL:https://www.dav-leitzachtal.de/wp-touren/events/skitour-kitzbuehler-al
 pen/
SUMMARY:ABGESAGT: Skitour\, Kitzbühler Alpen
DESCRIPTION:Frühwinter-Skitour\, Kitzbühler Alpen\nMittelschwere Skitour 
 i. Langen Grund\, Gipfel nach Schneelage\, Aufst. ca.\n2\,5 Std. TP: 7:30 
 Uhr\, Kletterstadl Aurach\, Anmeldung bei Frieder Scholz
CATEGORIES:Skitour
END:VEVENT
BEGIN:VTIMEZONE
TZID:Europe/Berlin
X-LIC-LOCATION:Europe/Berlin
BEGIN:STANDARD
DTSTART:20201025T020000
TZOFFSETFROM:+0200
TZOFFSETTO:+0100
TZNAME:CET
END:STANDARD
END:VTIMEZONE
END:VCALENDAR