BEGIN:VCALENDAR
VERSION:2.0
PRODID:-//wp-events-plugin.com//7.2.1//EN
TZID:Europe/Berlin
X-WR-TIMEZONE:Europe/Berlin
BEGIN:VEVENT
UID:64@dav-leitzachtal.de
DTSTART;TZID=Europe/Berlin;VALUE=DATE:20220122
DTEND;TZID=Europe/Berlin;VALUE=DATE:20220123
DTSTAMP:20211223T122230Z
URL:https://www.dav-leitzachtal.de/wp-touren/events/skitour-im-spitzingsee
 gebiet-bayer-voralpen/
SUMMARY:Skitour im Spitzingseegebiet\, Bayer. Voralpen
DESCRIPTION:Einfache Skitour\, Ziel nach Schneelage\, Aufst. ca. 2 Std./800
  Hm\nTP: 8.00 Uhr\, Parkplatz an d. Spitzingseestraße\, Anmeldung bei Geo
 rg Scholz
CATEGORIES:Skitour
END:VEVENT
BEGIN:VTIMEZONE
TZID:Europe/Berlin
X-LIC-LOCATION:Europe/Berlin
BEGIN:STANDARD
DTSTART:20211031T020000
TZOFFSETFROM:+0200
TZOFFSETTO:+0100
TZNAME:CET
END:STANDARD
END:VTIMEZONE
END:VCALENDAR