BEGIN:VCALENDAR
VERSION:2.0
PRODID:-//wp-events-plugin.com//7.2.1//EN
TZID:Europe/Berlin
X-WR-TIMEZONE:Europe/Berlin
BEGIN:VEVENT
UID:74@dav-leitzachtal.de
DTSTART;TZID=Europe/Berlin:20220226T080000
DTEND;TZID=Europe/Berlin:20220227T120000
DTSTAMP:20220224T201241Z
URL:https://www.dav-leitzachtal.de/wp-touren/events/skitour-iglubau-nur-mi
 t-helm/
SUMMARY:TOUR VERSCHOBEN - Skitour + Iglubau
DESCRIPTION:TOUR VERSCHOBEN! Skitour in unseren Hausbergen mit anschließe
 ndem Iglubau - je nach baulichem Erfolg mit Übernachtung darin. Treffpunk
 t: 8 Uhr am Kletterstadl in Aurach. NUR MIT HELM! Helm\, LVS\, Sonde und S
 chaufel bitte selber mitbringen. Infos und Anmeldung direkt bei den Jugend
 leitern oder per Mail an jugend@dav-leitzachtal.de
CATEGORIES:Jugendgruppe,Skitour
END:VEVENT
BEGIN:VTIMEZONE
TZID:Europe/Berlin
X-LIC-LOCATION:Europe/Berlin
BEGIN:STANDARD
DTSTART:20211031T020000
TZOFFSETFROM:+0200
TZOFFSETTO:+0100
TZNAME:CET
END:STANDARD
END:VTIMEZONE
END:VCALENDAR