BEGIN:VCALENDAR
VERSION:2.0
PRODID:-//wp-events-plugin.com//7.2.1//EN
TZID:Europe/Berlin
X-WR-TIMEZONE:Europe/Berlin
BEGIN:VEVENT
UID:177@dav-leitzachtal.de
DTSTART;TZID=Europe/Berlin;VALUE=DATE:20230315
DTEND;TZID=Europe/Berlin;VALUE=DATE:20230316
DTSTAMP:20230313T063443Z
URL:https://www.dav-leitzachtal.de/wp-touren/events/skitour-der-oberlandle
 r-senioren-am-mittwoch/
SUMMARY:Skitour der Oberlandler Senioren am Mittwoch
DESCRIPTION:Schitour der Oberlandler Senioren am Mittwoch 15.3.2023.\nDie O
 berlandler Senioren bieten am Mittwoch 15.3.2023 eine Schitour im Spitzing
 gebiet an. Das genauere Ziel wird noch fesgelegt. Die Anfahrt erfolgt mit 
 dem Schibus RVO 9562\, Abfahrt um 9.00 in Schliersee am Bahnhof bzw. um 9.
 07 in Neuhaus Zentrum  (Nähe Alperie bzw. GH Stickl). Achtung bei Anreis
 e mit BRB kann man nicht in Neuhaus zusteigen sondern muss dies bereits 
 in Schliersee tun! Tourenleitung Frieder Scholz Tel.: 08028-783."\n
CATEGORIES:Oberlandler-Senioren,Skitour
END:VEVENT
BEGIN:VTIMEZONE
TZID:Europe/Berlin
X-LIC-LOCATION:Europe/Berlin
BEGIN:STANDARD
DTSTART:20221030T020000
TZOFFSETFROM:+0200
TZOFFSETTO:+0100
TZNAME:CET
END:STANDARD
END:VTIMEZONE
END:VCALENDAR