BEGIN:VCALENDAR
VERSION:2.0
PRODID:-//wp-events-plugin.com//7.2.1//EN
TZID:Europe/Berlin
X-WR-TIMEZONE:Europe/Berlin
BEGIN:VEVENT
UID:144@dav-leitzachtal.de
DTSTART;TZID=Europe/Berlin;VALUE=DATE:20230128
DTEND;TZID=Europe/Berlin;VALUE=DATE:20230129
DTSTAMP:20221221T170638Z
URL:https://www.dav-leitzachtal.de/wp-touren/events/skitour-bayer-voralpen
 -2/
SUMMARY:Skitour\, Bayer. Voralpen
DESCRIPTION:Skitour\, Bayer. Voralpen\nEinfache Skitour\, Ziel je nach Schn
 eelage\, Aufst. ca. 2 Std./800 Hm\nTP: 8.00 Uhr\, unten an der  Spitzings
 eestraße\,\n\nAnmeldung bei Georg Scholz\, Tel. 01 5 7 -082586030
END:VEVENT
BEGIN:VTIMEZONE
TZID:Europe/Berlin
X-LIC-LOCATION:Europe/Berlin
BEGIN:STANDARD
DTSTART:20221030T020000
TZOFFSETFROM:+0200
TZOFFSETTO:+0100
TZNAME:CET
END:STANDARD
END:VTIMEZONE
END:VCALENDAR