BEGIN:VCALENDAR
VERSION:2.0
PRODID:-//wp-events-plugin.com//7.2.1//EN
TZID:Europe/Berlin
X-WR-TIMEZONE:Europe/Berlin
BEGIN:VEVENT
UID:76@dav-leitzachtal.de
DTSTART;TZID=Europe/Berlin:20220326T080000
DTEND;TZID=Europe/Berlin:20220327T160000
DTSTAMP:20220303T201435Z
URL:https://www.dav-leitzachtal.de/wp-touren/events/skihochtour-auf-den-gr
 ossvenediger-nur-mit-helm-lvs-schaufel-sonde/
SUMMARY:Skihochtour auf den Großvenediger (nur mit HELM + LVS/Schaufel/Son
 de)
DESCRIPTION:Skihochtour auf den Großvenediger (3.657m) oder anderen 3000er
  mit Übernachtung. Treffpunkt:  8 Uhr am Kletterstadl. Nur mit H E L M &
 amp\; LVS/Schaufel/Sonde. Infos und Anmeldung bis 13.03.2022 direkt bei de
 n Jugendleitern oder per Mail an jugend@dav-leitzachtal.de
CATEGORIES:Hochtour,Jugendgruppe,Skitour
END:VEVENT
BEGIN:VTIMEZONE
TZID:Europe/Berlin
X-LIC-LOCATION:Europe/Berlin
BEGIN:STANDARD
DTSTART:20211031T020000
TZOFFSETFROM:+0200
TZOFFSETTO:+0100
TZNAME:CET
END:STANDARD
BEGIN:DAYLIGHT
DTSTART:20220327T030000
TZOFFSETFROM:+0100
TZOFFSETTO:+0200
TZNAME:CEST
END:DAYLIGHT
END:VTIMEZONE
END:VCALENDAR