BEGIN:VCALENDAR
VERSION:2.0
PRODID:-//wp-events-plugin.com//7.2.1//EN
TZID:Europe/Berlin
X-WR-TIMEZONE:Europe/Berlin
BEGIN:VEVENT
UID:68@dav-leitzachtal.de
DTSTART;TZID=Europe/Berlin;VALUE=DATE:20220313
DTEND;TZID=Europe/Berlin;VALUE=DATE:20220319
DTSTAMP:20211219T142556Z
URL:https://www.dav-leitzachtal.de/wp-touren/events/skidurchquerung-der-ho
 hen-tauern/
SUMMARY:Skidurchquerung der Hohen Tauern
DESCRIPTION:Anspruchsvolle\, hochalpine Skitouren.\n\nTag 1: Krimml 1072 m 
 – Krimmler\nTauernhaus 1622 m\, Tag 2: Über Krimmler Achental z. Krimml
 er Törl 2787\nm (Gamsspitzl 2888 m) zur Kürsinger Hütte 2849 m\, Tag 3:
  Großvenediger\n3674 m – Abfahrt nach Innergschlöß z. Matreier Tauern
 haus 1512 m\, Tag 4:\nÜber Amertaler Höhe 2841 m\, Granatspitzscharte 29
 70 m (Sonnblick 3088\nm) z. Rudolfshütte 2315 m\, Tag 5: Hocheiser 3206 m
 \, Abfahrt ins Tal\, gute\nKondition\, Gletschererfahrung und Ausrüstung 
 erforderlich\, Aufstiege 5 - 6\nStd./800 - 1500 Hm. TN-Geb. 32.- EUR\nTP: 
 8.00 Uhr\, Kletterstadl Aurach\, Anmeldung bis 1.3. bei Frieder Scholz
CATEGORIES:Skitour
END:VEVENT
BEGIN:VTIMEZONE
TZID:Europe/Berlin
X-LIC-LOCATION:Europe/Berlin
BEGIN:STANDARD
DTSTART:20211031T020000
TZOFFSETFROM:+0200
TZOFFSETTO:+0100
TZNAME:CET
END:STANDARD
END:VTIMEZONE
END:VCALENDAR