BEGIN:VCALENDAR
VERSION:2.0
PRODID:-//wp-events-plugin.com//7.2.1//EN
TZID:Europe/Berlin
X-WR-TIMEZONE:Europe/Berlin
BEGIN:VEVENT
UID:184@dav-leitzachtal.de
DTSTART;TZID=Europe/Berlin;VALUE=DATE:20230514
DTEND;TZID=Europe/Berlin;VALUE=DATE:20230515
DTSTAMP:20230503T062403Z
URL:https://www.dav-leitzachtal.de/wp-touren/events/simetsberg-1836-m-este
 rgebirge/
SUMMARY:Simetsberg 1836 m\, Estergebirge
DESCRIPTION:Aussichtsreiche Bergtour\, Aufst. v. P Obernach/Walchensee ca. 
 3 Std/1020 Hm\nTP: 7.00 Uhr\, Kletterstadl Aurach\, Anmeldung bei Erich Be
 rger-Hofmann
CATEGORIES:Wandern
END:VEVENT
BEGIN:VTIMEZONE
TZID:Europe/Berlin
X-LIC-LOCATION:Europe/Berlin
BEGIN:DAYLIGHT
DTSTART:20230326T030000
TZOFFSETFROM:+0100
TZOFFSETTO:+0200
TZNAME:CEST
END:DAYLIGHT
END:VTIMEZONE
END:VCALENDAR