BEGIN:VCALENDAR
VERSION:2.0
PRODID:-//wp-events-plugin.com//7.2.1//EN
TZID:Europe/Berlin
X-WR-TIMEZONE:Europe/Berlin
BEGIN:VEVENT
UID:139@dav-leitzachtal.de
DTSTART;TZID=Europe/Berlin:20221214T200000
DTEND;TZID=Europe/Berlin:20221214T220000
DTSTAMP:20221203T062824Z
URL:https://www.dav-leitzachtal.de/wp-touren/events/sektionsabend-mit-glue
 hwein-und-ratsch/
SUMMARY:Nikolausabend mit Glühwein und Bilder von der Grande Traversata de
 lle Alpi
DESCRIPTION:"Nikolausabend der DAV Sektion Leitzachtal auf Mittwoch 14.12 v
 erschoben\, weil am 7.12. findet die Sendung "Bürgerforum" des Bayrischen
  Fernsehen in der Wolfseehalle in Fischbachau statt.  Thema Wintersport i
 n Zeiten von Klimawandel und Energiekrise - da wollen wir natürlich mitdi
 skutieren.\n\n&nbsp\;\n\nDie DAV Sektion Leitzachtal trifft sich am Mittwo
 ch 14. Dezember um 20.00 zu ihrem traditionellen Nikolausabend im Gasthof 
 Kirchstiegl. Neben dem traditionellen Ratsch bei Punsch und Plätzchen gib
 t es in diesem Jahr Bilder von der Grande Traversata delle Alpi (GTA) im i
 talienischen Piemont."
END:VEVENT
BEGIN:VTIMEZONE
TZID:Europe/Berlin
X-LIC-LOCATION:Europe/Berlin
BEGIN:STANDARD
DTSTART:20221030T020000
TZOFFSETFROM:+0200
TZOFFSETTO:+0100
TZNAME:CET
END:STANDARD
END:VTIMEZONE
END:VCALENDAR