BEGIN:VCALENDAR
VERSION:2.0
PRODID:-//wp-events-plugin.com//7.2.1//EN
TZID:Europe/Berlin
X-WR-TIMEZONE:Europe/Berlin
BEGIN:VEVENT
UID:188@dav-leitzachtal.de
DTSTART;TZID=Europe/Berlin:20230524T000000
DTEND;TZID=Europe/Berlin:20230524T000000
DTSTAMP:20230524T174729Z
URL:https://www.dav-leitzachtal.de/wp-touren/events/schweinsberg-bei-fisch
 bachau/
SUMMARY:Schweinsberg bei Fischbachau
DESCRIPTION:Die Oberlandler Senioren wandern am Mi. 24.Mai auf den Schweins
 berg bei Fischbachau. Ggf. Weiterweg zum Türkenköpfl. Treffpunkt um 9.30
  am Wanderparkplatz in Birkenstein\, erreichbar mit RVO Bus 9552 ab 8.36 i
 n Miesbach \, Ank. 9.18 Birkenstein (8.49 Hausham\, 8.54 Schliersee\, 9.02
  Neuhaus). Toureleitung Frieder Scholz  Tel. 08028-783."
CATEGORIES:Oberlandler-Senioren,Wandern
END:VEVENT
BEGIN:VTIMEZONE
TZID:Europe/Berlin
X-LIC-LOCATION:Europe/Berlin
BEGIN:DAYLIGHT
DTSTART:20230326T030000
TZOFFSETFROM:+0100
TZOFFSETTO:+0200
TZNAME:CEST
END:DAYLIGHT
END:VTIMEZONE
END:VCALENDAR