BEGIN:VCALENDAR
VERSION:2.0
PRODID:-//wp-events-plugin.com//7.2.1//EN
TZID:Europe/Berlin
X-WR-TIMEZONE:Europe/Berlin
BEGIN:VEVENT
UID:169@dav-leitzachtal.de
DTSTART;TZID=Europe/Berlin:20230118T183000
DTEND;TZID=Europe/Berlin:20230118T200000
DTSTAMP:20230107T144016Z
URL:https://www.dav-leitzachtal.de/wp-touren/events/schulung-alpenvereinak
 tiv-com/
SUMMARY:Schulung Alpenvereinaktiv.com
DESCRIPTION:Die DAV Sektionen Hausham und Leitzachtal bieten eine kostenlos
 e Schulung von "alpenvereinaktiv.com" an. Ein Mitarbeiter dieser Firma ste
 llt das Tourenportal vor und führt ein in die Benutzung dieser digitalen 
 Tourenplanung und in alle grundlegenden Funktionen. Wir erklären und zeig
 en euch die relevanten Anwendungen\, die ihr zum Aktivwerden braucht – f
 ür Touren und eure gemeinsamen Exkursionen.\n\nDie Veranstaltung beginnt 
 am 18. Januar um 18.30 Uhr im Gasthaus Kirchstiegl (bei Hundham) und dauer
 t ca. 2 Std. Eingeladen zu dieser Veranstaltung sind alle\, die sich für 
 digitale Berg- und Skitourenplanung interessieren. Anmeldungen bei Julia R
 iedl\, Tel: 08028/1229
CATEGORIES:Ausbildung
END:VEVENT
BEGIN:VTIMEZONE
TZID:Europe/Berlin
X-LIC-LOCATION:Europe/Berlin
BEGIN:STANDARD
DTSTART:20221030T020000
TZOFFSETFROM:+0200
TZOFFSETTO:+0100
TZNAME:CET
END:STANDARD
END:VTIMEZONE
END:VCALENDAR