BEGIN:VCALENDAR
VERSION:2.0
PRODID:-//wp-events-plugin.com//7.2.1//EN
TZID:Europe/Berlin
X-WR-TIMEZONE:Europe/Berlin
BEGIN:VEVENT
UID:48@dav-leitzachtal.de
DTSTART;TZID=Europe/Berlin;VALUE=DATE:20210929
DTEND;TZID=Europe/Berlin;VALUE=DATE:20210930
DTSTAMP:20210926T180634Z
URL:https://www.dav-leitzachtal.de/wp-touren/events/schoenfeldjoch-gefuehr
 te-bergtour/
SUMMARY:Schönfeldjoch\, geführte Bergtour
DESCRIPTION:Die Oberlandler Senioren planen am Mittwoch 27.9. eine Tour auf
  das Schönfeldjoch bei Landl/Tirol. Treffpunkt ist um 9.00 am Bahnhof Neu
 haus. Tourenleiter Frieder Scholz\, Tel. 08028-783. Es gelten die aktuelle
 n Corona Hygienevorschriften. 3-G- Regel und Mund-Nasenschutz nicht verges
 sen!
CATEGORIES:Oberlandler-Senioren
END:VEVENT
BEGIN:VTIMEZONE
TZID:Europe/Berlin
X-LIC-LOCATION:Europe/Berlin
BEGIN:DAYLIGHT
DTSTART:20210328T030000
TZOFFSETFROM:+0100
TZOFFSETTO:+0200
TZNAME:CEST
END:DAYLIGHT
END:VTIMEZONE
END:VCALENDAR