BEGIN:VCALENDAR
VERSION:2.0
PRODID:-//wp-events-plugin.com//7.2.1//EN
TZID:Europe/Berlin
X-WR-TIMEZONE:Europe/Berlin
BEGIN:VEVENT
UID:132@dav-leitzachtal.de
DTSTART;TZID=Europe/Berlin;VALUE=DATE:20230319
DTEND;TZID=Europe/Berlin;VALUE=DATE:20230320
DTSTAMP:20221027T122945Z
URL:https://www.dav-leitzachtal.de/wp-touren/events/schneerosen-tour-im-ka
 isergebirge/
SUMMARY:Schneerosen-Tour im Kaisergebirge
DESCRIPTION:Infos folgen\n\nAnmeldung bei Theo Müller\, Tel. 0174 8447642
CATEGORIES:Wandern
END:VEVENT
BEGIN:VTIMEZONE
TZID:Europe/Berlin
X-LIC-LOCATION:Europe/Berlin
BEGIN:STANDARD
DTSTART:20221030T020000
TZOFFSETFROM:+0200
TZOFFSETTO:+0100
TZNAME:CET
END:STANDARD
END:VTIMEZONE
END:VCALENDAR