BEGIN:VCALENDAR
VERSION:2.0
PRODID:-//wp-events-plugin.com//7.2.1//EN
TZID:Europe/Berlin
X-WR-TIMEZONE:Europe/Berlin
BEGIN:VEVENT
UID:172@dav-leitzachtal.de
DTSTART;TZID=Europe/Berlin:20230211T170000
DTEND;TZID=Europe/Berlin:20230211T220000
DTSTAMP:20230124T213616Z
URL:https://www.dav-leitzachtal.de/wp-touren/events/schlittenfahren-von-de
 r-kalaalm-pending/
SUMMARY:Schlittenfahren von der Kalaalm/Pending
DESCRIPTION:Schlittenfahren von der Kalaalm/Pendling bei Thiersee im Mondsc
 hein mit Stirnlampe. Nur mit H E L M! Treffpunkt um 17 Uhr am Kletterstadl
 . Bitte Schlitten und Stirnlampe selber mitbringen. Anmeldung an jugend@da
 v-leitzachtal.de oder direkt bei den Jugendleitern
CATEGORIES:Jugendgruppe
END:VEVENT
BEGIN:VTIMEZONE
TZID:Europe/Berlin
X-LIC-LOCATION:Europe/Berlin
BEGIN:STANDARD
DTSTART:20221030T020000
TZOFFSETFROM:+0200
TZOFFSETTO:+0100
TZNAME:CET
END:STANDARD
END:VTIMEZONE
END:VCALENDAR