BEGIN:VCALENDAR
VERSION:2.0
PRODID:-//wp-events-plugin.com//7.2.1//EN
TZID:Europe/Berlin
X-WR-TIMEZONE:Europe/Berlin
BEGIN:VEVENT
UID:71@dav-leitzachtal.de
DTSTART;TZID=Europe/Berlin:20220115T170000
DTEND;TZID=Europe/Berlin:20220115T230000
DTSTAMP:20220111T230314Z
URL:https://www.dav-leitzachtal.de/wp-touren/events/schlittenfahren-im-mon
 dschein-nur-mit-helm/
SUMMARY:Schlittenfahren im Mondschein - Nur mit HELM!
DESCRIPTION:Abendliches Schlittenfahren mit Stirnlampe vom Rotwandhaus/Spit
 zing.\n\nTreffpunkt: 17 Uhr\, Parkplatz an der Spitzingseestraße unten im
  Tal in Neuhaus.\n\nNUR MIT HELM! Helm\, Schlitten und Stirnlampe bitte se
 lber mitbringen sowie FFP2-Maske und 2G-Nachweise für den Einkehrschwung 
 im Rotwandhaus. Infos und Anmeldung (bis 14.01.22) direkt bei den Jugendle
 itern oder per Mail an jugend@dav-leitzachtal.de
CATEGORIES:Jugendgruppe,Rodel-Tour
END:VEVENT
BEGIN:VTIMEZONE
TZID:Europe/Berlin
X-LIC-LOCATION:Europe/Berlin
BEGIN:STANDARD
DTSTART:20211031T020000
TZOFFSETFROM:+0200
TZOFFSETTO:+0100
TZNAME:CET
END:STANDARD
END:VTIMEZONE
END:VCALENDAR