BEGIN:VCALENDAR
VERSION:2.0
PRODID:-//wp-events-plugin.com//7.2.1//EN
TZID:Europe/Berlin
X-WR-TIMEZONE:Europe/Berlin
BEGIN:VEVENT
UID:185@dav-leitzachtal.de
DTSTART;TZID=Europe/Berlin;VALUE=DATE:20230528
DTEND;TZID=Europe/Berlin;VALUE=DATE:20230529
DTSTAMP:20230503T062447Z
URL:https://www.dav-leitzachtal.de/wp-touren/events/scharfreiter-2101-m-vo
 rkarwendel/
SUMMARY:Scharfreiter 2101 m\, Vorkarwendel
DESCRIPTION:Mittelschwere Bergtour\, Aufst. v. Rißtal üb. Tölzer Hütte 
 ca. 3\,5 Std./1300 Hm\nTP: 6.00 Uhr\, Kletterstadl Aurach\, Anmeldung bei 
 Erich Berger
CATEGORIES:Wandern
END:VEVENT
BEGIN:VTIMEZONE
TZID:Europe/Berlin
X-LIC-LOCATION:Europe/Berlin
BEGIN:DAYLIGHT
DTSTART:20230326T030000
TZOFFSETFROM:+0100
TZOFFSETTO:+0200
TZNAME:CEST
END:DAYLIGHT
END:VTIMEZONE
END:VCALENDAR