BEGIN:VCALENDAR
VERSION:2.0
PRODID:-//wp-events-plugin.com//7.2.1//EN
TZID:Europe/Berlin
X-WR-TIMEZONE:Europe/Berlin
BEGIN:VEVENT
UID:149@dav-leitzachtal.de
DTSTART;TZID=Europe/Berlin;VALUE=DATE:20230312
DTEND;TZID=Europe/Berlin;VALUE=DATE:20230313
DTSTAMP:20221221T172338Z
URL:https://www.dav-leitzachtal.de/wp-touren/events/rodeln-weidener-huette
 -1856-m-tuxer-alpen/
SUMMARY:Rodeln\, Weidener Hütte 1856 m\, Tuxer Alpen
DESCRIPTION:Weidener Hütte 1856 m\, Tuxer Alpen\nLeichte 6\,5 km lange Rod
 elbahn v. d. Hütte nach Innerst\, Shuttlebus ab\nWeerberg\, Aufst. ca. 2\
 ,5 Std./720 Hm\nTP: 8.00 Uhr\, Bhf. Hausham\, Anmeldung bei Theo Müller
CATEGORIES:Rodel-Tour
END:VEVENT
BEGIN:VTIMEZONE
TZID:Europe/Berlin
X-LIC-LOCATION:Europe/Berlin
BEGIN:STANDARD
DTSTART:20221030T020000
TZOFFSETFROM:+0200
TZOFFSETTO:+0100
TZNAME:CET
END:STANDARD
END:VTIMEZONE
END:VCALENDAR